BEGIN:VCALENDAR
VERSION:2.0
PRODID:-//Jaguar Drivers&#039; Club of Christchurch - ECPv4.6.25//NONSGML v1.0//EN
CALSCALE:GREGORIAN
METHOD:PUBLISH
X-WR-CALNAME:Jaguar Drivers&#039; Club of Christchurch
X-ORIGINAL-URL:http://jaguardrivers.co.nz
X-WR-CALDESC:Events for Jaguar Drivers&#039; Club of Christchurch
BEGIN:VEVENT
DTSTART;TZID=Pacific/Auckland:20180806T183000
DTEND;TZID=Pacific/Auckland:20180806T183000
DTSTAMP:20181221T224930
CREATED:20180704T002338Z
LAST-MODIFIED:20180710T055009Z
UID:131-1533580200-1533580200@jaguardrivers.co.nz
SUMMARY:Nog & Natter
DESCRIPTION:
URL:http://jaguardrivers.co.nz/?tribe_events=nog-natter
END:VEVENT
END:VCALENDAR