BEGIN:VCALENDAR
VERSION:2.0
PRODID:-//Jaguar Drivers&#039; Club of Christchurch - ECPv4.6.25//NONSGML v1.0//EN
CALSCALE:GREGORIAN
METHOD:PUBLISH
X-WR-CALNAME:Jaguar Drivers&#039; Club of Christchurch
X-ORIGINAL-URL:http://jaguardrivers.co.nz
X-WR-CALDESC:Events for Jaguar Drivers&#039; Club of Christchurch
BEGIN:VEVENT
DTSTART;TZID=Pacific/Auckland:20180913T190000
DTEND;TZID=Pacific/Auckland:20180913T210000
DTSTAMP:20181221T224635
CREATED:20180819T224401Z
LAST-MODIFIED:20180819T224401Z
UID:204-1536865200-1536872400@jaguardrivers.co.nz
SUMMARY:AGM
DESCRIPTION:Club members only. \n
URL:http://jaguardrivers.co.nz/?tribe_events=agm
END:VEVENT
END:VCALENDAR